BEGIN:VCALENDAR
VERSION:2.0
BEGIN:VEVENT
URL:https://statsnsidelines.com/index.php/events/viewevent/12-stats-and-sidelines-santan-mountain-casino 
DTSTART:20251124T170000
DTEND:20251124T220000
SUMMARY:Stats and Sidelines @ Santan Mountain Casino
DESCRIPTION:<p><strong>Stats and Sidelines Podcast Live @ Santan Mountain Casino for Monday night Football @ 5pm</strong></p>
LOCATION:Chandler, AZ
END:VEVENT
END:VCALENDAR