BEGIN:VCALENDAR
VERSION:2.0
BEGIN:VEVENT
URL:https://statsnsidelines.com/index.php/events/viewevent/15-stats-sidelines-at-vee-quiva-casino 
DTSTART:20260104T160000
DTEND:20260105T210000
SUMMARY:Stats & Sidelines at Vee Quiva Casino
DESCRIPTION:<p>Stats & Sidelines at Vee Quiva Casino</p>
LOCATION:15091 S Komatke Ln, Laveen Village, AZ 85339
END:VEVENT
END:VCALENDAR