BEGIN:VCALENDAR
VERSION:2.0
BEGIN:VEVENT
URL:https://statsnsidelines.com/index.php/events/viewevent/16-stats-sidelines-at-dave-busters-tempe 
DTSTART:20260104T100000
DTEND:20260104T140000
SUMMARY:Stats & Sidelines at Dave & Buster's Tempe
DESCRIPTION:<p>Join the fun as the team go head to head over the love of football!</p>
LOCATION:2000 E Rio Salado Pkwy, Suite 1100, Tempe, AZ 85281
END:VEVENT
END:VCALENDAR