BEGIN:VCALENDAR
VERSION:2.0
BEGIN:VEVENT
URL:https://statsnsidelines.com/index.php/events/viewevent/2-stats-sidelines-live 
DTSTART:20250831T140000
DTEND:20250831T170000
SUMMARY:Stats & Sidelines LIVE
DESCRIPTION:We're hosting another live episode. Join the fun.
LOCATION:Phoenix, Arizona
END:VEVENT
END:VCALENDAR