BEGIN:VCALENDAR
VERSION:2.0
BEGIN:VEVENT
URL:https://statsnsidelines.com/index.php/events/viewevent/9-stats-sidelines-podcast-at-hooters 
DTSTART:20250928T100000
DTEND:20250928T140000
SUMMARY:Stats & Sidelines Podcast at Hooters
DESCRIPTION:<p>LIVE Broadcast: Stats & Sidelines Podcast at Hooters</p><br /><p>Join us for an electrifying LIVE broadcast of the Stats & Sidelines Podcast — Arizona’s boldest mix of sports, culture, and entertainment — streaming live from Hooters!</p><br /><p>🎙️ Featuring:</p><br /><p>Hosts: Lil Dee & Cheezo bringing dynamic energy and unfiltered commentary</p><br /><p>Special Guests: Arizona Cardinals Alumni Michael Bankston, Jerome Daniels, and Frank Sanders</p><br /><p>Signature Segments: PlayBook Live, Super Review, Why Did They Do That, Spotlight News & Stats</p><br /><p>🔥 What to Expect:</p><br /><p>NFL Pre-Game Analysis with insider perspectives</p><br /><p>Interactive Fan Engagement — be part of the live audience</p><br /><p>Behind-the-Scenes Stories and sideline perspectives</p><br /><p>Real-Time Stats & Commentary that go beyond the scoreboard</p><br /><p>Cultural Conversations blending sports with Arizona lifestyle</p><br /><p>Game Day Specials on Hooters’ legendary wings & drinks</p><br /><p>🎤 Event Highlights:</p><br /><p>✅ Live podcast + KRDP FM radio broadcast</p><p>✅ Meet & interact with Arizona Cardinals legends</p><p>✅ Premium sports analysis mixed with cultural authenticity</p><p>✅ Social media photo opportunities</p><p>✅ The ultimate Hooters game day atmosphere</p>
LOCATION:10223 North Metro Parkway, Phoenix, AZ 85051
END:VEVENT
END:VCALENDAR